Package: a4Classif Version: 1.57.0 Command: F:\biocbuild\bbs-3.22-bioc\R\bin\R.exe CMD INSTALL a4Classif StartedAt: 2025-07-01 16:00:21 -0400 (Tue, 01 Jul 2025) EndedAt: 2025-07-01 16:00:38 -0400 (Tue, 01 Jul 2025) EllapsedTime: 16.6 seconds RetCode: 0 Status: OK