Package: a4Classif Version: 1.57.0 Command: chmod a+r a4Classif -R && F:\biocbuild\bbs-3.22-bioc\R\bin\R.exe CMD build --keep-empty-dirs --no-resave-data a4Classif StartedAt: 2025-07-01 17:14:01 -0400 (Tue, 01 Jul 2025) EndedAt: 2025-07-01 17:14:44 -0400 (Tue, 01 Jul 2025) EllapsedTime: 42.9 seconds RetCode: 0 Status: OK PackageFile: a4Classif_1.57.0.tar.gz PackageFileSize: 372.2 KiB