Package: a4 Version: 1.57.0 Command: chmod a+r a4 -R && F:\biocbuild\bbs-3.22-bioc\R\bin\R.exe CMD build --keep-empty-dirs --no-resave-data a4 StartedAt: 2025-07-22 17:15:57 -0400 (Tue, 22 Jul 2025) EndedAt: 2025-07-22 17:19:24 -0400 (Tue, 22 Jul 2025) EllapsedTime: 207.8 seconds RetCode: 0 Status: OK PackageFile: a4_1.57.0.tar.gz PackageFileSize: 1022 KiB