Package: a4 Version: 1.57.0 Command: rm -rf a4.buildbin-libdir && mkdir a4.buildbin-libdir && F:\biocbuild\bbs-3.22-bioc\R\bin\R.exe CMD INSTALL --build --library=a4.buildbin-libdir a4_1.57.0.tar.gz StartedAt: 2025-07-23 08:32:18 -0400 (Wed, 23 Jul 2025) EndedAt: 2025-07-23 08:32:57 -0400 (Wed, 23 Jul 2025) EllapsedTime: 39.1 seconds RetCode: 0 Status: OK PackageFile: a4_1.57.0.zip PackageFileSize: 1023 KiB