Package: ZygosityPredictor Version: 1.9.1 Command: F:\biocbuild\bbs-3.22-bioc\R\bin\R.exe CMD check --no-multiarch --install=check:ZygosityPredictor.install-out.txt --library=F:\biocbuild\bbs-3.22-bioc\R\library --no-vignettes --timings ZygosityPredictor_1.9.1.tar.gz StartedAt: 2025-08-15 09:18:34 -0400 (Fri, 15 Aug 2025) EndedAt: 2025-08-15 09:23:03 -0400 (Fri, 15 Aug 2025) EllapsedTime: 269.0 seconds RetCode: 0 Status: OK CheckDir: ZygosityPredictor.Rcheck Warnings: 0