Package: YAPSA Version: 1.35.1 Command: /Library/Frameworks/R.framework/Resources/bin/R CMD INSTALL YAPSA StartedAt: 2025-10-05 15:24:48 -0400 (Sun, 05 Oct 2025) EndedAt: 2025-10-05 15:25:14 -0400 (Sun, 05 Oct 2025) EllapsedTime: 25.4 seconds RetCode: 0 Status: OK