Package: YAPSA Version: 1.35.1 Command: /Library/Frameworks/R.framework/Resources/bin/R CMD build --keep-empty-dirs --no-resave-data YAPSA StartedAt: 2025-10-05 18:09:09 -0400 (Sun, 05 Oct 2025) EndedAt: 2025-10-05 18:10:26 -0400 (Sun, 05 Oct 2025) EllapsedTime: 76.8 seconds RetCode: 0 Status: OK PackageFile: YAPSA_1.35.1.tar.gz PackageFileSize: 4.022 MiB