Package: Xeva Version: 1.25.0 Command: /home/biocbuild/R/R/bin/R CMD check --install=check:Xeva.install-out.txt --library=/home/biocbuild/R/R/site-library --no-vignettes --timings Xeva_1.25.0.tar.gz StartedAt: 2025-07-18 12:29:56 -0000 (Fri, 18 Jul 2025) EndedAt: 2025-07-18 12:35:39 -0000 (Fri, 18 Jul 2025) EllapsedTime: 343.1 seconds RetCode: 0 Status: OK CheckDir: Xeva.Rcheck Warnings: 0