Package: Xeva Version: 1.25.0 Command: /home/biocbuild/R/R/bin/R CMD build --keep-empty-dirs --no-resave-data Xeva StartedAt: 2025-07-18 04:00:01 -0000 (Fri, 18 Jul 2025) EndedAt: 2025-07-18 04:01:20 -0000 (Fri, 18 Jul 2025) EllapsedTime: 78.3 seconds RetCode: 0 Status: OK PackageFile: Xeva_1.25.0.tar.gz PackageFileSize: 1.563 MiB