Package: Xeva Version: 1.25.0 Command: F:\biocbuild\bbs-3.22-bioc\R\bin\R.exe CMD check --no-multiarch --install=check:Xeva.install-out.txt --library=F:\biocbuild\bbs-3.22-bioc\R\library --no-vignettes --timings Xeva_1.25.0.tar.gz StartedAt: 2025-07-02 07:51:21 -0400 (Wed, 02 Jul 2025) EndedAt: 2025-07-02 07:56:30 -0400 (Wed, 02 Jul 2025) EllapsedTime: 308.9 seconds RetCode: 0 Status: OK CheckDir: Xeva.Rcheck Warnings: 0