Package: Xeva Version: 1.25.0 Command: chmod a+r Xeva -R && F:\biocbuild\bbs-3.22-bioc\R\bin\R.exe CMD build --keep-empty-dirs --no-resave-data Xeva StartedAt: 2025-06-29 22:48:05 -0400 (Sun, 29 Jun 2025) EndedAt: 2025-06-29 22:49:54 -0400 (Sun, 29 Jun 2025) EllapsedTime: 109.1 seconds RetCode: 0 Status: OK PackageFile: Xeva_1.25.0.tar.gz PackageFileSize: 1.571 MiB