Package: Xeva Version: 1.25.0 Command: rm -rf Xeva.buildbin-libdir && mkdir Xeva.buildbin-libdir && F:\biocbuild\bbs-3.22-bioc\R\bin\R.exe CMD INSTALL --build --library=Xeva.buildbin-libdir Xeva_1.25.0.tar.gz StartedAt: 2025-06-30 10:03:15 -0400 (Mon, 30 Jun 2025) EndedAt: 2025-06-30 10:04:12 -0400 (Mon, 30 Jun 2025) EllapsedTime: 57.1 seconds RetCode: 0 Status: OK PackageFile: Xeva_1.25.0.zip PackageFileSize: 1.442 MiB