Package: Xeva Version: 1.25.0 Command: /Library/Frameworks/R.framework/Resources/bin/R CMD check --install=check:Xeva.install-out.txt --library=/Library/Frameworks/R.framework/Resources/library --no-vignettes --timings Xeva_1.25.0.tar.gz StartedAt: 2025-07-02 00:27:11 -0400 (Wed, 02 Jul 2025) EndedAt: 2025-07-02 00:31:30 -0400 (Wed, 02 Jul 2025) EllapsedTime: 259.0 seconds RetCode: 0 Status: OK CheckDir: Xeva.Rcheck Warnings: 0