Package: Xeva Version: 1.25.0 Command: /Library/Frameworks/R.framework/Resources/bin/R CMD build --keep-empty-dirs --no-resave-data Xeva StartedAt: 2025-07-01 18:58:40 -0400 (Tue, 01 Jul 2025) EndedAt: 2025-07-01 18:59:50 -0400 (Tue, 01 Jul 2025) EllapsedTime: 70.1 seconds RetCode: 0 Status: OK PackageFile: Xeva_1.25.0.tar.gz PackageFileSize: 1.57 MiB