Package: Xeva Version: 1.25.0 Command: /Library/Frameworks/R.framework/Resources/bin/R CMD INSTALL Xeva StartedAt: 2025-06-29 15:20:15 -0400 (Sun, 29 Jun 2025) EndedAt: 2025-06-29 15:20:29 -0400 (Sun, 29 Jun 2025) EllapsedTime: 14.3 seconds RetCode: 0 Status: OK