Package: XVector Version: 0.49.0 Command: /home/biocbuild/R/R/bin/R CMD INSTALL XVector StartedAt: 2025-06-26 20:25:58 -0000 (Thu, 26 Jun 2025) EndedAt: 2025-06-26 20:26:21 -0000 (Thu, 26 Jun 2025) EllapsedTime: 23.3 seconds RetCode: 0 Status: OK