Package: XVector Version: 0.49.0 Command: /home/biocbuild/R/R/bin/R CMD check --install=check:XVector.install-out.txt --library=/home/biocbuild/R/R/site-library --no-vignettes --timings XVector_0.49.0.tar.gz StartedAt: 2025-06-27 12:39:26 -0000 (Fri, 27 Jun 2025) EndedAt: 2025-06-27 12:40:56 -0000 (Fri, 27 Jun 2025) EllapsedTime: 90.2 seconds RetCode: 0 Status: WARNINGS CheckDir: XVector.Rcheck Warnings: 2