Package: XVector Version: 0.49.0 Command: /home/biocbuild/R/R/bin/R CMD build --keep-empty-dirs --no-resave-data XVector StartedAt: 2025-06-27 03:36:47 -0000 (Fri, 27 Jun 2025) EndedAt: 2025-06-27 03:36:48 -0000 (Fri, 27 Jun 2025) EllapsedTime: 1.0 seconds RetCode: 0 Status: OK PackageFile: XVector_0.49.0.tar.gz PackageFileSize: 66.31 KiB