Package: XNAString Version: 1.17.0 Command: F:\biocbuild\bbs-3.22-bioc\R\bin\R.exe CMD INSTALL XNAString StartedAt: 2025-07-01 16:35:25 -0400 (Tue, 01 Jul 2025) EndedAt: 2025-07-01 16:35:46 -0400 (Tue, 01 Jul 2025) EllapsedTime: 21.5 seconds RetCode: 1 Status: ERROR