Package: XNAString Version: 1.17.0 Command: chmod a+r XNAString -R && F:\biocbuild\bbs-3.22-bioc\R\bin\R.exe CMD build --keep-empty-dirs --no-resave-data XNAString StartedAt: 2025-07-01 22:49:50 -0400 (Tue, 01 Jul 2025) EndedAt: 2025-07-01 22:50:50 -0400 (Tue, 01 Jul 2025) EllapsedTime: 59.8 seconds RetCode: 1 Status: ERROR PackageFile: None PackageFileSize: NA