Package: XINA Version: 1.27.0 Command: /Library/Frameworks/R.framework/Resources/bin/R CMD INSTALL XINA StartedAt: 2025-10-05 15:06:34 -0400 (Sun, 05 Oct 2025) EndedAt: 2025-10-05 15:06:39 -0400 (Sun, 05 Oct 2025) EllapsedTime: 4.5 seconds RetCode: 0 Status: OK