Package: XAItest Version: 1.1.1 Command: /home/biocbuild/R/R/bin/R CMD build --keep-empty-dirs --no-resave-data XAItest StartedAt: 2025-07-18 03:58:32 -0000 (Fri, 18 Jul 2025) EndedAt: 2025-07-18 04:00:43 -0000 (Fri, 18 Jul 2025) EllapsedTime: 131.0 seconds RetCode: 0 Status: OK PackageFile: XAItest_1.1.1.tar.gz PackageFileSize: 804.5 KiB