Package: XAItest Version: 1.1.1 Command: F:\biocbuild\bbs-3.22-bioc\R\bin\R.exe CMD INSTALL XAItest StartedAt: 2025-07-24 16:11:53 -0400 (Thu, 24 Jul 2025) EndedAt: 2025-07-24 16:12:06 -0400 (Thu, 24 Jul 2025) EllapsedTime: 12.7 seconds RetCode: 0 Status: OK