Package: XAItest Version: 1.1.1 Command: chmod a+r XAItest -R && F:\biocbuild\bbs-3.22-bioc\R\bin\R.exe CMD build --keep-empty-dirs --no-resave-data XAItest StartedAt: 2025-07-24 23:05:00 -0400 (Thu, 24 Jul 2025) EndedAt: 2025-07-24 23:07:18 -0400 (Thu, 24 Jul 2025) EllapsedTime: 138.6 seconds RetCode: 0 Status: OK PackageFile: XAItest_1.1.1.tar.gz PackageFileSize: 777.7 KiB