Package: XAItest Version: 1.1.1 Command: /Library/Frameworks/R.framework/Resources/bin/R CMD check --install=check:XAItest.install-out.txt --library=/Library/Frameworks/R.framework/Resources/library --no-vignettes --timings XAItest_1.1.1.tar.gz StartedAt: 2025-07-01 22:00:50 -0400 (Tue, 01 Jul 2025) EndedAt: 2025-07-01 22:01:52 -0400 (Tue, 01 Jul 2025) EllapsedTime: 61.7 seconds RetCode: 0 Status: OK CheckDir: XAItest.Rcheck Warnings: 0