Package: XAItest Version: 1.1.1 Command: /Library/Frameworks/R.framework/Resources/bin/R CMD build --keep-empty-dirs --no-resave-data XAItest StartedAt: 2025-07-01 17:53:02 -0400 (Tue, 01 Jul 2025) EndedAt: 2025-07-01 17:54:10 -0400 (Tue, 01 Jul 2025) EllapsedTime: 67.8 seconds RetCode: 0 Status: OK PackageFile: XAItest_1.1.1.tar.gz PackageFileSize: 941.5 KiB