Package: Wrench Version: 1.27.0 Command: /home/biocbuild/R/R/bin/R CMD INSTALL Wrench StartedAt: 2025-07-03 20:18:57 -0000 (Thu, 03 Jul 2025) EndedAt: 2025-07-03 20:19:34 -0000 (Thu, 03 Jul 2025) EllapsedTime: 36.3 seconds RetCode: 0 Status: OK