Package: Wrench Version: 1.27.0 Command: /home/biocbuild/R/R/bin/R CMD check --install=check:Wrench.install-out.txt --library=/home/biocbuild/R/R/site-library --no-vignettes --timings Wrench_1.27.0.tar.gz StartedAt: 2025-07-08 12:11:07 -0000 (Tue, 08 Jul 2025) EndedAt: 2025-07-08 12:12:00 -0000 (Tue, 08 Jul 2025) EllapsedTime: 53.0 seconds RetCode: 0 Status: OK CheckDir: Wrench.Rcheck Warnings: 0