Package: Wrench Version: 1.27.0 Command: F:\biocbuild\bbs-3.22-bioc\R\bin\R.exe CMD INSTALL Wrench StartedAt: 2025-07-04 15:26:23 -0400 (Fri, 04 Jul 2025) EndedAt: 2025-07-04 15:26:33 -0400 (Fri, 04 Jul 2025) EllapsedTime: 9.9 seconds RetCode: 0 Status: OK