Package: Wrench Version: 1.27.0 Command: F:\biocbuild\bbs-3.22-bioc\R\bin\R.exe CMD check --no-multiarch --install=check:Wrench.install-out.txt --library=F:\biocbuild\bbs-3.22-bioc\R\library --no-vignettes --timings Wrench_1.27.0.tar.gz StartedAt: 2025-07-08 07:51:56 -0400 (Tue, 08 Jul 2025) EndedAt: 2025-07-08 07:53:03 -0400 (Tue, 08 Jul 2025) EllapsedTime: 67.0 seconds RetCode: 0 Status: OK CheckDir: Wrench.Rcheck Warnings: 0