Package: Wrench Version: 1.27.0 Command: rm -rf Wrench.buildbin-libdir && mkdir Wrench.buildbin-libdir && F:\biocbuild\bbs-3.22-bioc\R\bin\R.exe CMD INSTALL --build --library=Wrench.buildbin-libdir Wrench_1.27.0.tar.gz StartedAt: 2025-07-07 10:03:51 -0400 (Mon, 07 Jul 2025) EndedAt: 2025-07-07 10:03:58 -0400 (Mon, 07 Jul 2025) EllapsedTime: 7.7 seconds RetCode: 0 Status: OK PackageFile: Wrench_1.27.0.zip PackageFileSize: 269.3 KiB