Package: Wrench Version: 1.27.0 Command: /home/biocbuild/bbs-3.22-bioc/R/bin/R CMD INSTALL Wrench StartedAt: 2025-06-29 15:07:36 -0400 (Sun, 29 Jun 2025) EndedAt: 2025-06-29 15:07:57 -0400 (Sun, 29 Jun 2025) EllapsedTime: 20.9 seconds RetCode: 0 Status: OK