Package: Wrench Version: 1.27.0 Command: /home/biocbuild/bbs-3.22-bioc/R/bin/R CMD build --keep-empty-dirs --no-resave-data --md5 Wrench StartedAt: 2025-06-29 19:42:55 -0400 (Sun, 29 Jun 2025) EndedAt: 2025-06-29 19:43:37 -0400 (Sun, 29 Jun 2025) EllapsedTime: 42.0 seconds RetCode: 0 Status: OK PackageFile: Wrench_1.27.0.tar.gz PackageFileSize: 225.3 KiB