Package: Wrench Version: 1.27.0 Command: /Library/Frameworks/R.framework/Resources/bin/R CMD INSTALL Wrench StartedAt: 2025-07-01 15:19:01 -0400 (Tue, 01 Jul 2025) EndedAt: 2025-07-01 15:19:32 -0400 (Tue, 01 Jul 2025) EllapsedTime: 31.2 seconds RetCode: 0 Status: OK