Package: Wrench Version: 1.27.0 Command: /Library/Frameworks/R.framework/Resources/bin/R CMD build --keep-empty-dirs --no-resave-data Wrench StartedAt: 2025-07-01 18:58:20 -0400 (Tue, 01 Jul 2025) EndedAt: 2025-07-01 18:59:06 -0400 (Tue, 01 Jul 2025) EllapsedTime: 45.7 seconds RetCode: 0 Status: OK PackageFile: Wrench_1.27.0.tar.gz PackageFileSize: 224.7 KiB