Package: Voyager Version: 1.11.0 Command: /home/biocbuild/R/R/bin/R CMD INSTALL Voyager StartedAt: 2025-07-21 21:06:44 -0000 (Mon, 21 Jul 2025) EndedAt: 2025-07-21 21:07:54 -0000 (Mon, 21 Jul 2025) EllapsedTime: 70.2 seconds RetCode: 0 Status: OK