Package: Voyager Version: 1.11.0 Command: F:\biocbuild\bbs-3.22-bioc\R\bin\R.exe CMD INSTALL Voyager StartedAt: 2025-07-24 16:41:09 -0400 (Thu, 24 Jul 2025) EndedAt: 2025-07-24 16:42:40 -0400 (Thu, 24 Jul 2025) EllapsedTime: 90.5 seconds RetCode: 0 Status: OK