Package: Voyager Version: 1.11.0 Command: chmod a+r Voyager -R && F:\biocbuild\bbs-3.22-bioc\R\bin\R.exe CMD build --keep-empty-dirs --no-resave-data Voyager StartedAt: 2025-07-24 23:01:28 -0400 (Thu, 24 Jul 2025) EndedAt: 2025-07-24 23:04:00 -0400 (Thu, 24 Jul 2025) EllapsedTime: 151.9 seconds RetCode: 0 Status: OK PackageFile: Voyager_1.11.0.tar.gz PackageFileSize: 2.801 MiB