Package: Voyager Version: 1.11.0 Command: /home/biocbuild/bbs-3.22-bioc/R/bin/R CMD INSTALL Voyager StartedAt: 2025-07-07 15:36:10 -0400 (Mon, 07 Jul 2025) EndedAt: 2025-07-07 15:37:01 -0400 (Mon, 07 Jul 2025) EllapsedTime: 51.5 seconds RetCode: 0 Status: OK