Package: Voyager Version: 1.11.0 Command: /home/biocbuild/bbs-3.22-bioc/R/bin/R CMD build --keep-empty-dirs --no-resave-data --md5 Voyager StartedAt: 2025-07-07 19:40:29 -0400 (Mon, 07 Jul 2025) EndedAt: 2025-07-07 19:42:04 -0400 (Mon, 07 Jul 2025) EllapsedTime: 95.1 seconds RetCode: 0 Status: OK PackageFile: Voyager_1.11.0.tar.gz PackageFileSize: 3.962 MiB