Package: Voyager Version: 1.11.0 Command: /Library/Frameworks/R.framework/Resources/bin/R CMD check --install=check:Voyager.install-out.txt --library=/Library/Frameworks/R.framework/Resources/library --no-vignettes --timings Voyager_1.11.0.tar.gz StartedAt: 2025-07-08 00:18:46 -0400 (Tue, 08 Jul 2025) EndedAt: 2025-07-08 00:31:13 -0400 (Tue, 08 Jul 2025) EllapsedTime: 746.7 seconds RetCode: 0 Status: WARNINGS CheckDir: Voyager.Rcheck Warnings: 1