Package: Voyager Version: 1.11.0 Command: rm -rf Voyager.buildbin-libdir && mkdir Voyager.buildbin-libdir && /Users/biocbuild/BBS/utils/build-universal.sh Voyager_1.11.0.tar.gz /Library/Frameworks/R.framework/Resources/bin/R Voyager.buildbin-libdir StartedAt: 2025-07-08 01:21:54 -0400 (Tue, 08 Jul 2025) EndedAt: 2025-07-08 01:23:03 -0400 (Tue, 08 Jul 2025) EllapsedTime: 69.4 seconds RetCode: 0 Status: OK PackageFile: Voyager_1.11.0.tgz PackageFileSize: 4.639 MiB