Package: Voyager Version: 1.11.0 Command: /Library/Frameworks/R.framework/Resources/bin/R CMD INSTALL Voyager StartedAt: 2025-07-07 15:16:20 -0400 (Mon, 07 Jul 2025) EndedAt: 2025-07-07 15:16:40 -0400 (Mon, 07 Jul 2025) EllapsedTime: 20.2 seconds RetCode: 0 Status: OK