Package: Voyager Version: 1.11.0 Command: /Library/Frameworks/R.framework/Resources/bin/R CMD build --keep-empty-dirs --no-resave-data Voyager StartedAt: 2025-07-07 17:50:31 -0400 (Mon, 07 Jul 2025) EndedAt: 2025-07-07 17:51:11 -0400 (Mon, 07 Jul 2025) EllapsedTime: 40.5 seconds RetCode: 0 Status: OK PackageFile: Voyager_1.11.0.tar.gz PackageFileSize: 4.661 MiB