Package: Voyager Version: 1.11.0 Command: rm -rf Voyager.buildbin-libdir && mkdir Voyager.buildbin-libdir && /Users/biocbuild/BBS/utils/build-universal.sh Voyager_1.11.0.tar.gz /Library/Frameworks/R.framework/Resources/bin/R Voyager.buildbin-libdir StartedAt: 2025-07-07 22:36:39 -0400 (Mon, 07 Jul 2025) EndedAt: 2025-07-07 22:37:01 -0400 (Mon, 07 Jul 2025) EllapsedTime: 21.5 seconds RetCode: 0 Status: OK PackageFile: Voyager_1.11.0.tgz PackageFileSize: 4.641 MiB