Package: VisiumIO Version: 1.5.6 Command: /home/biocbuild/R/R/bin/R CMD INSTALL VisiumIO StartedAt: 2025-07-14 20:54:10 -0000 (Mon, 14 Jul 2025) EndedAt: 2025-07-14 20:54:41 -0000 (Mon, 14 Jul 2025) EllapsedTime: 31.5 seconds RetCode: 0 Status: OK