Package: VisiumIO Version: 1.5.6 Command: /home/biocbuild/bbs-3.22-bioc/R/bin/R CMD check --install=check:VisiumIO.install-out.txt --library=/home/biocbuild/bbs-3.22-bioc/R/site-library --timings VisiumIO_1.5.6.tar.gz StartedAt: 2025-07-16 03:32:30 -0400 (Wed, 16 Jul 2025) EndedAt: 2025-07-16 03:35:47 -0400 (Wed, 16 Jul 2025) EllapsedTime: 197.2 seconds RetCode: 0 Status: OK CheckDir: VisiumIO.Rcheck Warnings: 0