Package: VisiumIO Version: 1.5.6 Command: /Library/Frameworks/R.framework/Resources/bin/R CMD INSTALL VisiumIO StartedAt: 2025-07-15 15:10:18 -0400 (Tue, 15 Jul 2025) EndedAt: 2025-07-15 15:10:29 -0400 (Tue, 15 Jul 2025) EllapsedTime: 10.1 seconds RetCode: 0 Status: OK