Package: ViSEAGO Version: 1.23.0 Command: F:\biocbuild\bbs-3.22-bioc\R\bin\R.exe CMD check --no-multiarch --install=check:ViSEAGO.install-out.txt --library=F:\biocbuild\bbs-3.22-bioc\R\library --no-vignettes --timings ViSEAGO_1.23.0.tar.gz StartedAt: 2025-07-12 07:43:13 -0400 (Sat, 12 Jul 2025) EndedAt: 2025-07-12 07:47:33 -0400 (Sat, 12 Jul 2025) EllapsedTime: 259.5 seconds RetCode: 0 Status: WARNINGS CheckDir: ViSEAGO.Rcheck Warnings: 4