Package: ViSEAGO Version: 1.23.0 Command: /Library/Frameworks/R.framework/Resources/bin/R CMD check --install=check:ViSEAGO.install-out.txt --library=/Library/Frameworks/R.framework/Resources/library --no-vignettes --timings ViSEAGO_1.23.0.tar.gz StartedAt: 2025-07-23 00:30:14 -0400 (Wed, 23 Jul 2025) EndedAt: 2025-07-23 00:33:57 -0400 (Wed, 23 Jul 2025) EllapsedTime: 223.6 seconds RetCode: 0 Status: WARNINGS CheckDir: ViSEAGO.Rcheck Warnings: 4